BEGIN:VCALENDAR
VERSION:2.0
PRODID:-//ChamberMaster//Event Calendar 2.0//EN
METHOD:PUBLISH
X-PUBLISHED-TTL:P3D
REFRESH-INTERVAL:P3D
CALSCALE:GREGORIAN
BEGIN:VEVENT
DTSTART:20260422T080000Z
DTEND:20260422T110000Z
X-MICROSOFT-CDO-ALLDAYEVENT:FALSE
SUMMARY:Dime Bank Career Fair
DESCRIPTION:Want to experience what makes community banking so great? Join our community!\n\nDime Bank is hosting a career fair on Wednesday\, April 22 from 4:00pm - 7:00pm at our recently renovated corporate office located at 290 Salem Turnpike\, Norwich\, CT.\n\nWe are looking to fill current openings including teller roles\, universal bankers\, branch managers\, and support-office roles such as a call center specialist\, system administrator\, and summer interns! To view all current openings\, please visit https://www.dime-bank.com/about-us/about-dime-bank/careers\n\nTo pre-register\, please visit https://www.surveymonkey.com/r/5CR7HHN\n\nWalk-ins are also welcome!
X-ALT-DESC;FMTTYPE=text/html:Want to experience what makes community banking so great? Join our community!<br />\nDime Bank is hosting a career fair on Wednesday\, April 22 from 4:00pm - 7:00pm at our recently renovated corporate office located at 290 Salem Turnpike\, Norwich\, CT.<br />\nWe are looking to fill current openings including teller roles\, universal bankers\, branch managers\, and support-office roles such as a call center specialist\, system administrator\, and summer interns! To view all current openings\, please visit&nbsp\;<a href="https://www.dime-bank.com/about-us/about-dime-bank/careers?fbclid=IwZXh0bgNhZW0CMTAAYnJpZBExN1NoM1R1T3BFTHh4N2Jpb3NydGMGYXBwX2lkEDIyMjAzOTE3ODgyMDA4OTIAAR4p0WXPRvgloZLCLDksQiWCvs58UblJtWph45_QKOiVHAHv5U_A_3uSvkSJ3w_aem_WCugKhXQpv3BuZdivfeeIA" target="_blank"><strong>https://www.dime-bank.com/about-us/about-dime-bank/careers</strong></a><br />\nTo pre-register\, please visit&nbsp\;<a href="https://www.surveymonkey.com/r/5CR7HHN?fbclid=IwZXh0bgNhZW0CMTAAYnJpZBExN1NoM1R1T3BFTHh4N2Jpb3NydGMGYXBwX2lkEDIyMjAzOTE3ODgyMDA4OTIAAR54_4Vc-qVCvzhPNncSoM8itO829AmpJY0xZjyEDAMnCZpqZpyUM_3RyHfu5Q_aem__xZ466_AdQibKF-NpT_4FQ" target="_blank"><strong>https://www.surveymonkey.com/r/5CR7HHN</strong></a><br />\nWalk-ins are also welcome!
LOCATION:290 Salem Turnpike\, Norwich\, CT 06360
UID:e.2240.18530
SEQUENCE:3
DTSTAMP:20260420T193202Z
URL:https://business.glastonburychamber.com/events/details/dime-bank-career-fair-18530
END:VEVENT

END:VCALENDAR
